BEGIN:VCALENDAR
VERSION:2.0
PRODID:-//BSHM - ECPv6.15.20//NONSGML v1.0//EN
CALSCALE:GREGORIAN
METHOD:PUBLISH
X-WR-CALNAME:BSHM
X-ORIGINAL-URL:https://bshm.ac.uk
X-WR-CALDESC:Events for BSHM
REFRESH-INTERVAL;VALUE=DURATION:PT1H
X-Robots-Tag:noindex
X-PUBLISHED-TTL:PT1H
BEGIN:VTIMEZONE
TZID:Europe/London
BEGIN:DAYLIGHT
TZOFFSETFROM:+0000
TZOFFSETTO:+0100
TZNAME:BST
DTSTART:20250330T010000
END:DAYLIGHT
BEGIN:STANDARD
TZOFFSETFROM:+0100
TZOFFSETTO:+0000
TZNAME:GMT
DTSTART:20251026T010000
END:STANDARD
BEGIN:DAYLIGHT
TZOFFSETFROM:+0000
TZOFFSETTO:+0100
TZNAME:BST
DTSTART:20260329T010000
END:DAYLIGHT
BEGIN:STANDARD
TZOFFSETFROM:+0100
TZOFFSETTO:+0000
TZNAME:GMT
DTSTART:20261025T010000
END:STANDARD
BEGIN:DAYLIGHT
TZOFFSETFROM:+0000
TZOFFSETTO:+0100
TZNAME:BST
DTSTART:20270328T010000
END:DAYLIGHT
BEGIN:STANDARD
TZOFFSETFROM:+0100
TZOFFSETTO:+0000
TZNAME:GMT
DTSTART:20271031T010000
END:STANDARD
END:VTIMEZONE
BEGIN:VEVENT
DTSTART;VALUE=DATE:20260713
DTEND;VALUE=DATE:20260717
DTSTAMP:20260424T154719
CREATED:20260118T154119Z
LAST-MODIFIED:20260118T154119Z
UID:1008-1783900800-1784246399@bshm.ac.uk
SUMMARY:European Society for the History of Science – History of Science Society Joint Meeting
DESCRIPTION:The History of Science Society and the European Society for the History of Science will have their first joint meeting 13–16 July 2026 in Edinburgh\, Scotland\, with the support of the British Society for the History of Science. The theme of the conference is: \nShifting Perspectives: Plural Worlds\, Contested Sciences.  \nThe call for papers is now closed\, as of 1 December 2025. More details are available here.
URL:https://bshm.ac.uk/event/european-society-for-the-history-of-science-history-of-science-society-joint-meeting/
CATEGORIES:Non BSHM
END:VEVENT
BEGIN:VEVENT
DTSTART;TZID=Europe/London:20261017T080000
DTEND;TZID=Europe/London:20261017T170000
DTSTAMP:20260424T154719
CREATED:20260414T174712Z
LAST-MODIFIED:20260414T174712Z
UID:1421-1792224000-1792256400@bshm.ac.uk
SUMMARY:Oxford’s Savilian Professors of Astronomy: The First 400 Years
DESCRIPTION:To celebrate the publication in December 2025 of an edited book with the above title\, Steven Balbus (Savilian Professor 2012–24) and Robin Wilson are organising this one-day meeting in which the authors of this book and others will present the 400-year history of the Savilian Chair of Astronomy. \nThere is no attendance fee but if you wish to attend\, please pre-register on this form no later than 1st May 2026 in order to facilitate communication and logistics.
URL:https://bshm.ac.uk/event/oxfords-savilian-professors-of-astronomy-the-first-400-years/
LOCATION:Green Templeton College Oxford\, 43 Woodstock Rd\, Oxford\, OX2 6HG\, United Kingdom
CATEGORIES:Non BSHM
END:VEVENT
END:VCALENDAR